BEGIN:VCALENDAR
PRODID:-//http://statistik.d-u-v.org//PHP ultracalendar//EN
VERSION:2.0
METHOD:PUBLISH
BEGIN:VEVENT
DTSTAMP:20260423T020205
CREATED:20220312T200849
UID:1776909725.0.19005400-84871@statistik.d-u-v.org
SUMMARY:Loopy Looper 24-Hour Run
DESCRIPTION: Loopy Looper 24-Hour Run\n
  \n
  endlessendurancellc[at]gmail.com
DTSTART:20220806T070000
DTEND:20220807T235900
LOCATION:Pennsauken Township, NJ\, USA
URL:https://www.endlessendurance.com/loopy-looper
CATEGORIES:Ultramarathon
CONTACT:
CLASS:PUBLIC
PRIORITY:5
TRANSP:OPAQUE
END:VEVENT
END:VCALENDAR
