BEGIN:VCALENDAR
PRODID:-//http://statistik.d-u-v.org//PHP ultracalendar//EN
VERSION:2.0
METHOD:PUBLISH
BEGIN:VEVENT
DTSTAMP:20260423T022654
CREATED:20220312T092808
UID:1776911214.0.34832200-84832@statistik.d-u-v.org
SUMMARY:Thames Path 100
DESCRIPTION: Thames Path 100\n
  \n
  racedirector[at]centurionrunning.com
DTSTART:20220507T093000
DTEND:20220508T235900
LOCATION:Richmond\, GBR
URL:http://www.centurionrunning.com/
CATEGORIES:Ultramarathon
CONTACT:
CLASS:PUBLIC
PRIORITY:5
TRANSP:OPAQUE
END:VEVENT
END:VCALENDAR
