BEGIN:VCALENDAR
PRODID:-//http://statistik.d-u-v.org//PHP ultracalendar//EN
VERSION:2.0
METHOD:PUBLISH
BEGIN:VEVENT
DTSTAMP:20260423T002757
CREATED:20220310T194840
UID:1776904077.0.14568400-84793@statistik.d-u-v.org
SUMMARY:Snow Bull 6 Hour Endurance Run
DESCRIPTION: Snow Bull 6 Hour Endurance Run\n
  Colleen Lawrence\n
  colleen.lawrence[at]madcowrunning.com
DTSTART:20230114T110000
DTEND:00000000T235900
LOCATION:Whitwell, TN\, USA
URL:https://madcowrunning.com/snow-bull-6-12-hour-endurance-runs/
CATEGORIES:Ultramarathon
CONTACT:Colleen Lawrence
CLASS:PUBLIC
PRIORITY:5
TRANSP:OPAQUE
END:VEVENT
END:VCALENDAR
