BEGIN:VCALENDAR
PRODID:-//http://statistik.d-u-v.org//PHP ultracalendar//EN
VERSION:2.0
METHOD:PUBLISH
BEGIN:VEVENT
DTSTAMP:20260423T100320
CREATED:20220309T152630
UID:1776938600.0.28252600-84755@statistik.d-u-v.org
SUMMARY:Romanian 50km Race Walking - Bucuresti
DESCRIPTION: Romanian 50km Race Walking - Bucuresti\n
  \n
  
DTSTART:20191102T060000
DTEND:00000000T235900
LOCATION:Bucuresti City\, ROU
URL:https://worldathletics.org/competition/calendar-results/results/7142819?eventId=10229628&gender=M
CATEGORIES:Ultramarathon
CONTACT:
CLASS:PUBLIC
PRIORITY:5
TRANSP:OPAQUE
END:VEVENT
END:VCALENDAR
