BEGIN:VCALENDAR
PRODID:-//http://statistik.d-u-v.org//PHP ultracalendar//EN
VERSION:2.0
METHOD:PUBLISH
BEGIN:VEVENT
DTSTAMP:20260423T035846
CREATED:20220309T041405
UID:1776916726.0.20253300-84706@statistik.d-u-v.org
SUMMARY:Last Man Standing Ultramarathon
DESCRIPTION: Last Man Standing Ultramarathon\n
  \n
  will[at]back40events.com
DTSTART:20220903T120000
DTEND:20220904T180000
LOCATION:New Gloucester, ME\, USA
URL:https://www.back40events.com/lastmanstanding
CATEGORIES:Ultramarathon
CONTACT:
CLASS:PUBLIC
PRIORITY:5
TRANSP:OPAQUE
END:VEVENT
END:VCALENDAR
