BEGIN:VCALENDAR
PRODID:-//http://statistik.d-u-v.org//PHP ultracalendar//EN
VERSION:2.0
METHOD:PUBLISH
BEGIN:VEVENT
DTSTAMP:20260419T182148
CREATED:20101001T161040
UID:1776622908.0.23613800-8459@statistik.d-u-v.org
SUMMARY:Buckeye 50 Mile Run
DESCRIPTION: Buckeye 50 Mile Run\n
  Race Director Jamil Coury\n
  jamil[at]aravaiparunning.com
DTSTART:20100904T060000
DTEND:20100905T235900
LOCATION:Buckeye, AZ\, USA
URL:http://www.aravaiparunning.com/aravaiparunning/page.php?30
CATEGORIES:Ultramarathon
CONTACT:Race Director Jamil Coury
CLASS:PUBLIC
PRIORITY:5
TRANSP:OPAQUE
END:VEVENT
END:VCALENDAR
