BEGIN:VCALENDAR
PRODID:-//http://statistik.d-u-v.org//PHP ultracalendar//EN
VERSION:2.0
METHOD:PUBLISH
BEGIN:VEVENT
DTSTAMP:20260419T210128
CREATED:20220303T172601
UID:1776632488.0.02138300-84458@statistik.d-u-v.org
SUMMARY:Red Barn 24 Hour Challenge
DESCRIPTION: Red Barn 24 Hour Challenge\n
  \n
  marzellanikki[at]gmail.com
DTSTART:20220930T190000
DTEND:20221001T235900
LOCATION:Lykens, PA\, USA
URL:https://redbarnchallenge.godaddysites.com/
CATEGORIES:Ultramarathon
CONTACT:
CLASS:PUBLIC
PRIORITY:5
TRANSP:OPAQUE
END:VEVENT
END:VCALENDAR
