BEGIN:VCALENDAR
PRODID:-//http://statistik.d-u-v.org//PHP ultracalendar//EN
VERSION:2.0
METHOD:PUBLISH
BEGIN:VEVENT
DTSTAMP:20260423T055219
CREATED:20220303T172354
UID:1776923539.0.64616000-84457@statistik.d-u-v.org
SUMMARY:No Business 100
DESCRIPTION: No Business 100\n
  \n
  ultranautrunning[at]gmail.com
DTSTART:20221014T080000
DTEND:20221015T235900
LOCATION:Jamestown, TN\, USA
URL:http://www.nobusiness100.com
CATEGORIES:Ultramarathon
CONTACT:
CLASS:PUBLIC
PRIORITY:5
TRANSP:OPAQUE
END:VEVENT
END:VCALENDAR
