BEGIN:VCALENDAR
PRODID:-//http://statistik.d-u-v.org//PHP ultracalendar//EN
VERSION:2.0
METHOD:PUBLISH
BEGIN:VEVENT
DTSTAMP:20260419T211116
CREATED:20220302T191844
UID:1776633076.0.30428700-84401@statistik.d-u-v.org
SUMMARY:San Antonio Hard Trail 50km
DESCRIPTION: San Antonio Hard Trail 50km\n
  \n
  urku.trailrunning[at]gmail.com
DTSTART:20221009T000000
DTEND:00000000T235900
LOCATION:San Antonio, Jujuy\, ARG
URL:http://www.urku.com.ar/
CATEGORIES:Ultramarathon
CONTACT:
CLASS:PUBLIC
PRIORITY:5
TRANSP:OPAQUE
END:VEVENT
END:VCALENDAR
