BEGIN:VCALENDAR
PRODID:-//http://statistik.d-u-v.org//PHP ultracalendar//EN
VERSION:2.0
METHOD:PUBLISH
BEGIN:VEVENT
DTSTAMP:20260419T202903
CREATED:20220301T215904
UID:1776630543.0.41503900-84371@statistik.d-u-v.org
SUMMARY:ABM Jędraszek UltraPark Weekend 50km
DESCRIPTION: ABM Jędraszek UltraPark Weekend 50km\n
  Piotr Kardas\n
  biuro.ultrapark[at]gmail.com
DTSTART:20220515T080000
DTEND:20220515T150000
LOCATION:Pabianice\, POL
URL:http://www.ultrapark.com.pl
CATEGORIES:Ultramarathon
CONTACT:Piotr Kardas
CLASS:PUBLIC
PRIORITY:5
TRANSP:OPAQUE
END:VEVENT
END:VCALENDAR
