BEGIN:VCALENDAR
PRODID:-//http://statistik.d-u-v.org//PHP ultracalendar//EN
VERSION:2.0
METHOD:PUBLISH
BEGIN:VEVENT
DTSTAMP:20260419T210249
CREATED:20220228T220327
UID:1776632569.0.04860400-84334@statistik.d-u-v.org
SUMMARY:The Bear 100 Mile Endurance Run
DESCRIPTION: The Bear 100 Mile Endurance Run\n
  Leland Barker\n
  bear100man[at]hotmail.com
DTSTART:20220923T060000
DTEND:20220924T180000
LOCATION:Logan, UT\, USA
URL:http://www.bear100.com/
CATEGORIES:Ultramarathon
CONTACT:Leland Barker
CLASS:PUBLIC
PRIORITY:5
TRANSP:OPAQUE
END:VEVENT
END:VCALENDAR
