BEGIN:VCALENDAR
PRODID:-//http://statistik.d-u-v.org//PHP ultracalendar//EN
VERSION:2.0
METHOD:PUBLISH
BEGIN:VEVENT
DTSTAMP:20260421T183137
CREATED:20220228T222535
UID:1776796297.0.06033200-84322@statistik.d-u-v.org
SUMMARY:Paris Pair 100km
DESCRIPTION: Paris Pair 100km\n
  \n
  rob[at]trailracingovertexas.com
DTSTART:20220917T060000
DTEND:00000000T235900
LOCATION:Paris, TX\, USA
URL:http://www.trailracingovertexas.com/paris-pair
CATEGORIES:Ultramarathon
CONTACT:
CLASS:PUBLIC
PRIORITY:5
TRANSP:OPAQUE
END:VEVENT
END:VCALENDAR
