BEGIN:VCALENDAR
PRODID:-//http://statistik.d-u-v.org//PHP ultracalendar//EN
VERSION:2.0
METHOD:PUBLISH
BEGIN:VEVENT
DTSTAMP:20260419T223138
CREATED:20220227T190050
UID:1776637898.0.13366800-84282@statistik.d-u-v.org
SUMMARY:Lean Horse Ultra-Marathon 100 Mile
DESCRIPTION: Lean Horse Ultra-Marathon 100 Mile\n
  Race Director Royce Wuertzer\n
  track[at]rushmore.com
DTSTART:20220820T060000
DTEND:20220821T235900
LOCATION:Custer, SD\, USA
URL:http://www.leanhorse100.com/
CATEGORIES:Ultramarathon
CONTACT:Race Director Royce Wuertzer
CLASS:PUBLIC
PRIORITY:5
TRANSP:OPAQUE
END:VEVENT
END:VCALENDAR
