BEGIN:VCALENDAR
PRODID:-//http://statistik.d-u-v.org//PHP ultracalendar//EN
VERSION:2.0
METHOD:PUBLISH
BEGIN:VEVENT
DTSTAMP:20260422T211841
CREATED:20220227T183943
UID:1776892721.0.44757100-84273@statistik.d-u-v.org
SUMMARY:Kilkenny Ridge 50mi Race
DESCRIPTION: Kilkenny Ridge 50mi Race\n
  \n
  rockhopperraces[at]gmail.com; races[at]whitemountainendurance.com
DTSTART:20220917T000000
DTEND:00000000T235900
LOCATION:Stark, NH\, USA
URL:https://www.rockhopperraces.com/kilkenny-ridge-race
CATEGORIES:Ultramarathon
CONTACT:
CLASS:PUBLIC
PRIORITY:5
TRANSP:OPAQUE
END:VEVENT
END:VCALENDAR
