BEGIN:VCALENDAR
PRODID:-//http://statistik.d-u-v.org//PHP ultracalendar//EN
VERSION:2.0
METHOD:PUBLISH
BEGIN:VEVENT
DTSTAMP:20260423T014938
CREATED:20220225T113554
UID:1776908978.0.50400300-84125@statistik.d-u-v.org
SUMMARY:Sri Chinmoy 24 Hour Race Mongolia
DESCRIPTION: Sri Chinmoy 24 Hour Race Mongolia\n
  \n
  mongolia[at]srichinmoyraces.org; info[at]mumf.org.mn; ojargal66[at]gmail.com
DTSTART:20140830T100000
DTEND:20140831T100000
LOCATION:Ulaanbaatar\, MGL
URL:http://mumf.org.mn/%d1%83%d0%b6%d0%b0%d1%83%d1%8b%d0%b6%d0%b0/
CATEGORIES:Ultramarathon
CONTACT:
CLASS:PUBLIC
PRIORITY:5
TRANSP:OPAQUE
END:VEVENT
END:VCALENDAR
