BEGIN:VCALENDAR
PRODID:-//http://statistik.d-u-v.org//PHP ultracalendar//EN
VERSION:2.0
METHOD:PUBLISH
BEGIN:VEVENT
DTSTAMP:20260419T164358
CREATED:20100910T145813
UID:1776617038.0.72336800-8400@statistik.d-u-v.org
SUMMARY:Nanny Goat 100 Mile Race
DESCRIPTION: Nanny Goat 100 Mile Race\n
  Steve Harvey\n
  
DTSTART:20110528T000000
DTEND:20110529T235900
LOCATION:Riverside, CA\, USA
URL:http://www.oldgoatrunners.com/old_goat_50_home_page_017.htm
CATEGORIES:Ultramarathon
CONTACT:Steve Harvey
CLASS:PUBLIC
PRIORITY:5
TRANSP:OPAQUE
END:VEVENT
END:VCALENDAR
