BEGIN:VCALENDAR
PRODID:-//http://statistik.d-u-v.org//PHP ultracalendar//EN
VERSION:2.0
METHOD:PUBLISH
BEGIN:VEVENT
DTSTAMP:20260419T220813
CREATED:20220217T185624
UID:1776636493.0.61956100-83968@statistik.d-u-v.org
SUMMARY:TMMTR - TransMoravian Masochist Trail Run
DESCRIPTION: TMMTR - TransMoravian Masochist Trail Run\n
  Daniel Orálek\n
  dao[at]anet-brno.cz
DTSTART:20220716T020000
DTEND:20220717T080000
LOCATION:Lomnice\, CZE
URL:https://tmmtr.ultracau.cz
CATEGORIES:Ultramarathon
CONTACT:Daniel Orálek
CLASS:PUBLIC
PRIORITY:5
TRANSP:OPAQUE
END:VEVENT
END:VCALENDAR
