BEGIN:VCALENDAR
PRODID:-//http://statistik.d-u-v.org//PHP ultracalendar//EN
VERSION:2.0
METHOD:PUBLISH
BEGIN:VEVENT
DTSTAMP:20260423T031407
CREATED:20220213T100448
UID:1776914047.0.07614600-83871@statistik.d-u-v.org
SUMMARY:Panoramic Ultra Trail PTP - 100 Miles
DESCRIPTION: Panoramic Ultra Trail PTP - 100 Miles\n
  \n
  utpanoramic[at]gmail.com
DTSTART:20211210T220000
DTEND:20211212T220000
LOCATION:Mae Hong Son\, THA
URL:https://marathons.ahotu.com/event/ultra-trail-panoramic
CATEGORIES:Ultramarathon
CONTACT:
CLASS:PUBLIC
PRIORITY:5
TRANSP:OPAQUE
END:VEVENT
END:VCALENDAR
