BEGIN:VCALENDAR
PRODID:-//http://statistik.d-u-v.org//PHP ultracalendar//EN
VERSION:2.0
METHOD:PUBLISH
BEGIN:VEVENT
DTSTAMP:20260420T000630
CREATED:20220205T112348
UID:1776643590.0.07016800-83718@statistik.d-u-v.org
SUMMARY:800 Heroes - Jinshui Camp Trail 106Km
DESCRIPTION: 800 Heroes - Jinshui Camp Trail 106Km\n
  \n
  
DTSTART:20221217T050000
DTEND:00000000T235900
LOCATION:Fangliao Township\, TPE
URL:https://www.beclass.com/rid=254661061bb2c72ba08a
CATEGORIES:Ultramarathon
CONTACT:
CLASS:PUBLIC
PRIORITY:5
TRANSP:OPAQUE
END:VEVENT
END:VCALENDAR
