BEGIN:VCALENDAR
PRODID:-//http://statistik.d-u-v.org//PHP ultracalendar//EN
VERSION:2.0
METHOD:PUBLISH
BEGIN:VEVENT
DTSTAMP:20260423T024000
CREATED:20100611T055859
UID:1776912000.0.27200800-8365@statistik.d-u-v.org
SUMMARY:Superior Fall Trail Races  100 Mile
DESCRIPTION: Superior Fall Trail Races  100 Mile\n
  \n
  
DTSTART:20070907T000000
DTEND:20070908T235900
LOCATION:Two Harbors, MN\, USA
URL:http://www.superiortrailrace.com/
CATEGORIES:Ultramarathon
CONTACT:
CLASS:PUBLIC
PRIORITY:5
TRANSP:OPAQUE
END:VEVENT
END:VCALENDAR
