BEGIN:VCALENDAR
PRODID:-//http://statistik.d-u-v.org//PHP ultracalendar//EN
VERSION:2.0
METHOD:PUBLISH
BEGIN:VEVENT
DTSTAMP:20260424T124505
CREATED:20220127T234502
UID:1777034705.0.51977200-83432@statistik.d-u-v.org
SUMMARY:Belfast 100 Mile Road Race
DESCRIPTION: Belfast 100 Mile Road Race\n
  Adrian Daye\n
  info[at]belfast24hrruns.co.uk
DTSTART:20220618T120000
DTEND:20220619T140000
LOCATION:Belfast\, GBR
URL:https://belfast24hrruns.co.uk
CATEGORIES:Ultramarathon
CONTACT:Adrian Daye
CLASS:PUBLIC
PRIORITY:5
TRANSP:OPAQUE
END:VEVENT
END:VCALENDAR
