BEGIN:VCALENDAR
PRODID:-//http://statistik.d-u-v.org//PHP ultracalendar//EN
VERSION:2.0
METHOD:PUBLISH
BEGIN:VEVENT
DTSTAMP:20260419T220835
CREATED:20220127T114252
UID:1776636515.0.33911200-83394@statistik.d-u-v.org
SUMMARY:Madison Ultra 50km Downhill
DESCRIPTION: Madison Ultra 50km Downhill\n
  Sam Korsmoe\n
  sam[at]yespi.net
DTSTART:20210724T000000
DTEND:00000000T235900
LOCATION:Ennis, MT\, USA
URL:https://www.themadisonmarathon.com/races
CATEGORIES:Ultramarathon
CONTACT:Sam Korsmoe
CLASS:PUBLIC
PRIORITY:5
TRANSP:OPAQUE
END:VEVENT
END:VCALENDAR
