BEGIN:VCALENDAR
PRODID:-//http://statistik.d-u-v.org//PHP ultracalendar//EN
VERSION:2.0
METHOD:PUBLISH
BEGIN:VEVENT
DTSTAMP:20260423T012243
CREATED:20220123T133059
UID:1776907363.0.86106900-83303@statistik.d-u-v.org
SUMMARY:EcoTrail Stockholm 80 km
DESCRIPTION: EcoTrail Stockholm 80 km\n
  \n
  info[at]ecotrailstockholm.com
DTSTART:20220618T070000
DTEND:00000000T235900
LOCATION:Stockholm\, SWE
URL:https://stockholm.ecotrail.com
CATEGORIES:Ultramarathon
CONTACT:
CLASS:PUBLIC
PRIORITY:5
TRANSP:OPAQUE
END:VEVENT
END:VCALENDAR
