BEGIN:VCALENDAR
PRODID:-//http://statistik.d-u-v.org//PHP ultracalendar//EN
VERSION:2.0
METHOD:PUBLISH
BEGIN:VEVENT
DTSTAMP:20260419T185926
CREATED:20220119T170328
UID:1776625166.0.39043200-83208@statistik.d-u-v.org
SUMMARY:Les 24 heures de Royan - marche
DESCRIPTION: Les 24 heures de Royan - marche\n
  Daniel Fritzsch\n
  12.24.48heuresderoyan[at]gmail.com
DTSTART:20191004T100000
DTEND:20191005T100000
LOCATION:Royan\, FRA
URL:http://www.48hderoyan.fr/
CATEGORIES:Ultramarathon
CONTACT:Daniel Fritzsch
CLASS:PUBLIC
PRIORITY:5
TRANSP:OPAQUE
END:VEVENT
END:VCALENDAR
