BEGIN:VCALENDAR
PRODID:-//http://statistik.d-u-v.org//PHP ultracalendar//EN
VERSION:2.0
METHOD:PUBLISH
BEGIN:VEVENT
DTSTAMP:20260423T103107
CREATED:20220115T132004
UID:1776940267.0.65511500-83136@statistik.d-u-v.org
SUMMARY:G1 Grüngürtel Ultra Köln
DESCRIPTION: G1 Grüngürtel Ultra Köln\n
  Thorsten Klenke\n
  thorsten[at]gruenguertelultra.de
DTSTART:20230108T083000
DTEND:20230108T190000
LOCATION:Köln\, GER
URL:https://www.gruenguertelultra.de
CATEGORIES:Ultramarathon
CONTACT:Thorsten Klenke
CLASS:PUBLIC
PRIORITY:5
TRANSP:OPAQUE
END:VEVENT
END:VCALENDAR
