BEGIN:VCALENDAR
PRODID:-//http://statistik.d-u-v.org//PHP ultracalendar//EN
VERSION:2.0
METHOD:PUBLISH
BEGIN:VEVENT
DTSTAMP:20260423T020306
CREATED:20220103T074119
UID:1776909786.0.07558700-82702@statistik.d-u-v.org
SUMMARY:You Yangs 50 km
DESCRIPTION: You Yangs 50 km\n
  Brett Saxon\n
  brett[at]trailsplus.com.au
DTSTART:20220717T080000
DTEND:00000000T235900
LOCATION:Little River, VIC\, AUS
URL:https://trailsplus.com.au/youyangs/
CATEGORIES:Ultramarathon
CONTACT:Brett Saxon
CLASS:PUBLIC
PRIORITY:5
TRANSP:OPAQUE
END:VEVENT
END:VCALENDAR
