BEGIN:VCALENDAR
PRODID:-//http://statistik.d-u-v.org//PHP ultracalendar//EN
VERSION:2.0
METHOD:PUBLISH
BEGIN:VEVENT
DTSTAMP:20260419T164830
CREATED:20211231T151151
UID:1776617310.0.05022600-82588@statistik.d-u-v.org
SUMMARY:Summer Olympic Games - 50km Walk
DESCRIPTION: Summer Olympic Games - 50km Walk\n
  \n
  
DTSTART:19360805T070000
DTEND:00000000T235900
LOCATION:Berlin City\, GER
URL:https://en.wikipedia.org/wiki/Athletics_at_the_1936_Summer_Olympics_%E2%80%93_Men%27s_50_kilometres_walk
CATEGORIES:Ultramarathon
CONTACT:
CLASS:PUBLIC
PRIORITY:5
TRANSP:OPAQUE
END:VEVENT
END:VCALENDAR
