BEGIN:VCALENDAR
PRODID:-//http://statistik.d-u-v.org//PHP ultracalendar//EN
VERSION:2.0
METHOD:PUBLISH
BEGIN:VEVENT
DTSTAMP:20260424T160645
CREATED:20211226T112647
UID:1777046805.0.08555000-82406@statistik.d-u-v.org
SUMMARY:Hainesport Hundred 12 Hour Endurance Run Summer
DESCRIPTION: Hainesport Hundred 12 Hour Endurance Run Summer\n
  Vanessa Kline\n
  info[at]beastcoastpro.com
DTSTART:20220903T090000
DTEND:00000000T235900
LOCATION:Hainesport, NJ\, USA
URL:https://beastcoastpro.com/
CATEGORIES:Ultramarathon
CONTACT:Vanessa Kline
CLASS:PUBLIC
PRIORITY:5
TRANSP:OPAQUE
END:VEVENT
END:VCALENDAR
