BEGIN:VCALENDAR
PRODID:-//http://statistik.d-u-v.org//PHP ultracalendar//EN
VERSION:2.0
METHOD:PUBLISH
BEGIN:VEVENT
DTSTAMP:20260420T110424
CREATED:20211223T174457
UID:1776683064.0.68287200-82367@statistik.d-u-v.org
SUMMARY:River to Sea 12 Hour Race
DESCRIPTION: River to Sea 12 Hour Race\n
  Race Director Dawn Lisenby\n
  dawn[at]runnaturalcoach.com
DTSTART:20220806T070000
DTEND:00000000T235900
LOCATION:Marineland, FL\, USA
URL:http://www.eastcoasttrailracing.com
CATEGORIES:Ultramarathon
CONTACT:Race Director Dawn Lisenby
CLASS:PUBLIC
PRIORITY:5
TRANSP:OPAQUE
END:VEVENT
END:VCALENDAR
