BEGIN:VCALENDAR
PRODID:-//http://statistik.d-u-v.org//PHP ultracalendar//EN
VERSION:2.0
METHOD:PUBLISH
BEGIN:VEVENT
DTSTAMP:20260424T160623
CREATED:20211223T173825
UID:1777046783.0.69207700-82348@statistik.d-u-v.org
SUMMARY:El Frio 50
DESCRIPTION: El Frio 50\n
  Marisa Rogers\n
  marisa[at]ultraexpeditions.com
DTSTART:20220129T070000
DTEND:00000000T235900
LOCATION:Fort Worth, TX\, USA
URL:https://www.ultraexpeditions.com/elfrio50
CATEGORIES:Ultramarathon
CONTACT:Marisa Rogers
CLASS:PUBLIC
PRIORITY:5
TRANSP:OPAQUE
END:VEVENT
END:VCALENDAR
