BEGIN:VCALENDAR
PRODID:-//http://statistik.d-u-v.org//PHP ultracalendar//EN
VERSION:2.0
METHOD:PUBLISH
BEGIN:VEVENT
DTSTAMP:20260425T105826
CREATED:20211223T141918
UID:1777114706.0.44609800-82286@statistik.d-u-v.org
SUMMARY:6 Stunden von Langenzersdorf
DESCRIPTION: 6 Stunden von Langenzersdorf\n
  Stefan Trybus\n
  stefan.trybus[at]sunlit-actions.at
DTSTART:20220430T140000
DTEND:00000000T235900
LOCATION:Langenzersdorf\, AUT
URL:http://www.100km-von-le.at
CATEGORIES:Ultramarathon
CONTACT:Stefan Trybus
CLASS:PUBLIC
PRIORITY:5
TRANSP:OPAQUE
END:VEVENT
END:VCALENDAR
