BEGIN:VCALENDAR
PRODID:-//http://statistik.d-u-v.org//PHP ultracalendar//EN
VERSION:2.0
METHOD:PUBLISH
BEGIN:VEVENT
DTSTAMP:20260419T185906
CREATED:20211222T163009
UID:1776625146.0.94656500-82264@statistik.d-u-v.org
SUMMARY:La H.O.T. du Père Noël
DESCRIPTION: La H.O.T. du Père Noël\n
  ABV Les Herbiers\n
  acbv85[at]gmail.com; abvlesherbiers[at]gmail.com
DTSTART:20221217T200000
DTEND:20221218T210000
LOCATION:Les Herbiers\, FRA
URL:https://www.coursesduperenoel.abvendee.fr/
CATEGORIES:Ultramarathon
CONTACT:ABV Les Herbiers
CLASS:PUBLIC
PRIORITY:5
TRANSP:OPAQUE
END:VEVENT
END:VCALENDAR
