BEGIN:VCALENDAR
PRODID:-//http://statistik.d-u-v.org//PHP ultracalendar//EN
VERSION:2.0
METHOD:PUBLISH
BEGIN:VEVENT
DTSTAMP:20260423T043536
CREATED:20211221T172933
UID:1776918936.0.36799600-82225@statistik.d-u-v.org
SUMMARY:Patagonia Run 100 Millas
DESCRIPTION: Patagonia Run 100 Millas\n
  Agueda Torres Sabaté\n
  info[at]patagoniarun.com
DTSTART:20220408T110000
DTEND:20220409T235900
LOCATION:San Martin de los Andes\, ARG
URL:http://www.patagoniarun.com/
CATEGORIES:Ultramarathon
CONTACT:Agueda Torres Sabaté
CLASS:PUBLIC
PRIORITY:5
TRANSP:OPAQUE
END:VEVENT
END:VCALENDAR
