BEGIN:VCALENDAR
PRODID:-//http://statistik.d-u-v.org//PHP ultracalendar//EN
VERSION:2.0
METHOD:PUBLISH
BEGIN:VEVENT
DTSTAMP:20260419T200554
CREATED:20211221T172608
UID:1776629154.0.88805200-82206@statistik.d-u-v.org
SUMMARY:SA Track 100 Championship - 12h
DESCRIPTION: SA Track 100 Championship - 12h\n
  Race Director: Ben Hockings\n
  ben.hockings[at]ultrasa.com.au
DTSTART:20200125T070000
DTEND:00000000T235900
LOCATION:Adelaide, SA\, AUS
URL:https://ultrasa.com.au/events/track-100/
CATEGORIES:Ultramarathon
CONTACT:Race Director: Ben Hockings
CLASS:PUBLIC
PRIORITY:5
TRANSP:OPAQUE
END:VEVENT
END:VCALENDAR
