BEGIN:VCALENDAR
PRODID:-//http://statistik.d-u-v.org//PHP ultracalendar//EN
VERSION:2.0
METHOD:PUBLISH
BEGIN:VEVENT
DTSTAMP:20260420T000711
CREATED:20211220T091517
UID:1776643631.0.77683700-82145@statistik.d-u-v.org
SUMMARY:Tor des Glaciers
DESCRIPTION: Tor des Glaciers\n
  Valle d'Aosta Trailers SSDrl\n
  info[at]tordesgeants.it; info[at]vdatrailers.it
DTSTART:20220909T200000
DTEND:20220917T180000
LOCATION:Courmayeur\, ITA
URL:https://www.tordesgeants.it
CATEGORIES:Ultramarathon
CONTACT:Valle d'Aosta Trailers SSDrl
CLASS:PUBLIC
PRIORITY:5
TRANSP:OPAQUE
END:VEVENT
END:VCALENDAR
