BEGIN:VCALENDAR
PRODID:-//http://statistik.d-u-v.org//PHP ultracalendar//EN
VERSION:2.0
METHOD:PUBLISH
BEGIN:VEVENT
DTSTAMP:20260419T164535
CREATED:20100530T023936
UID:1776617135.0.75633100-8211@statistik.d-u-v.org
SUMMARY:Sulphur Springs Trail Run 100mi
DESCRIPTION: Sulphur Springs Trail Run 100mi\n
  \n
  sulphurspringsrd[at]gmail.com
DTSTART:20060526T000000
DTEND:20060527T235900
LOCATION:Ancaster, ON\, CAN
URL:http://ouser.org/races/sulp.htm
CATEGORIES:Ultramarathon
CONTACT:
CLASS:PUBLIC
PRIORITY:5
TRANSP:OPAQUE
END:VEVENT
END:VCALENDAR
