BEGIN:VCALENDAR
PRODID:-//http://statistik.d-u-v.org//PHP ultracalendar//EN
VERSION:2.0
METHOD:PUBLISH
BEGIN:VEVENT
DTSTAMP:20260423T023925
CREATED:20211219T184557
UID:1776911965.0.13863900-82103@statistik.d-u-v.org
SUMMARY:Garda Trentino Trail Fidal (GTT)
DESCRIPTION: Garda Trentino Trail Fidal (GTT)\n
  Matteo Paternostro\n
  info[at]gardatrentinotrail.it
DTSTART:20220514T080000
DTEND:20220514T210000
LOCATION:Riva del Garda\, ITA
URL:http://www.gardatrentinotrail.it
CATEGORIES:Ultramarathon
CONTACT:Matteo Paternostro
CLASS:PUBLIC
PRIORITY:5
TRANSP:OPAQUE
END:VEVENT
END:VCALENDAR
