BEGIN:VCALENDAR
PRODID:-//http://statistik.d-u-v.org//PHP ultracalendar//EN
VERSION:2.0
METHOD:PUBLISH
BEGIN:VEVENT
DTSTAMP:20260425T220150
CREATED:20211219T114801
UID:1777154510.0.29034400-82074@statistik.d-u-v.org
SUMMARY:UMF Summer Ed. 1000km
DESCRIPTION: UMF Summer Ed. 1000km\n
  Pasquale Brandi\n
  pasqual.brandi[at]tiscali.it
DTSTART:20220921T150000
DTEND:20221001T235900
LOCATION:Policoro (MT)\, ITA
URL:https://www.6giornidelpantano.com/
CATEGORIES:Ultramarathon
CONTACT:Pasquale Brandi
CLASS:PUBLIC
PRIORITY:5
TRANSP:OPAQUE
END:VEVENT
END:VCALENDAR
