BEGIN:VCALENDAR
PRODID:-//http://statistik.d-u-v.org//PHP ultracalendar//EN
VERSION:2.0
METHOD:PUBLISH
BEGIN:VEVENT
DTSTAMP:20260419T200424
CREATED:20100530T013833
UID:1776629064.0.95469100-8201@statistik.d-u-v.org
SUMMARY:Massanutten Mountain Trails 100 Mile
DESCRIPTION: Massanutten Mountain Trails 100 Mile\n
  Stan Duobinis\n
  stanruns[at]att.net
DTSTART:20010512T000000
DTEND:20010513T235900
LOCATION:Front Royal, VA\, USA
URL:http://www.vhtrc.org/mmt/
CATEGORIES:Ultramarathon
CONTACT:Stan Duobinis
CLASS:PUBLIC
PRIORITY:5
TRANSP:OPAQUE
END:VEVENT
END:VCALENDAR
