BEGIN:VCALENDAR
PRODID:-//http://statistik.d-u-v.org//PHP ultracalendar//EN
VERSION:2.0
METHOD:PUBLISH
BEGIN:VEVENT
DTSTAMP:20260423T014956
CREATED:20211216T103754
UID:1776908996.0.50778900-81987@statistik.d-u-v.org
SUMMARY:Run the Blades
DESCRIPTION: Run the Blades\n
  \n
  events[at]breakingstrain.co.uk
DTSTART:20220716T073000
DTEND:00000000T235900
LOCATION:Eaglesham\, GBR
URL:https://www.breakingstrain.co.uk/run-the-blades/
CATEGORIES:Ultramarathon
CONTACT:
CLASS:PUBLIC
PRIORITY:5
TRANSP:OPAQUE
END:VEVENT
END:VCALENDAR
