BEGIN:VCALENDAR
PRODID:-//http://statistik.d-u-v.org//PHP ultracalendar//EN
VERSION:2.0
METHOD:PUBLISH
BEGIN:VEVENT
DTSTAMP:20260424T201152
CREATED:20211215T223448
UID:1777061512.0.27756100-81985@statistik.d-u-v.org
SUMMARY:Ultra Trail Drakensberg (UTD 100)
DESCRIPTION: Ultra Trail Drakensberg (UTD 100)\n
  \n
  info[at]ultratraildrakensberg.com
DTSTART:20220422T000000
DTEND:20220423T235900
LOCATION:Himeville, KZN\, RSA
URL:http://www.ultratraildrakensberg.com/
CATEGORIES:Ultramarathon
CONTACT:
CLASS:PUBLIC
PRIORITY:5
TRANSP:OPAQUE
END:VEVENT
END:VCALENDAR
