BEGIN:VCALENDAR
PRODID:-//http://statistik.d-u-v.org//PHP ultracalendar//EN
VERSION:2.0
METHOD:PUBLISH
BEGIN:VEVENT
DTSTAMP:20260423T002810
CREATED:20211207T214408
UID:1776904090.0.59930400-81783@statistik.d-u-v.org
SUMMARY:Coventry Woods Trail Running Festival
DESCRIPTION: Coventry Woods Trail Running Festival\n
  \n
  
DTSTART:20210627T000000
DTEND:00000000T235900
LOCATION:Pottstown, PA\, USA
URL:https://chestercountyrunningstore.rsupartner.com/
CATEGORIES:Ultramarathon
CONTACT:
CLASS:PUBLIC
PRIORITY:5
TRANSP:OPAQUE
END:VEVENT
END:VCALENDAR
