BEGIN:VCALENDAR
PRODID:-//http://statistik.d-u-v.org//PHP ultracalendar//EN
VERSION:2.0
METHOD:PUBLISH
BEGIN:VEVENT
DTSTAMP:20260423T050453
CREATED:20100529T233858
UID:1776920693.0.63679300-8175@statistik.d-u-v.org
SUMMARY:Haliburton Forest 50 Mile Race
DESCRIPTION: Haliburton Forest 50 Mile Race\n
  \n
  
DTSTART:20000902T000000
DTEND:20000903T235900
LOCATION:West Guilford, ON\, CAN
URL:http://www.ouser.org/races//hali.htm
CATEGORIES:Ultramarathon
CONTACT:
CLASS:PUBLIC
PRIORITY:5
TRANSP:OPAQUE
END:VEVENT
END:VCALENDAR
