BEGIN:VCALENDAR
PRODID:-//http://statistik.d-u-v.org//PHP ultracalendar//EN
VERSION:2.0
METHOD:PUBLISH
BEGIN:VEVENT
DTSTAMP:20260419T213447
CREATED:20211202T004321
UID:1776634487.0.12903700-81645@statistik.d-u-v.org
SUMMARY:Grand Raid des Pyrénées - Ultra Tour 160
DESCRIPTION: Grand Raid des Pyrénées - Ultra Tour 160\n
  \n
  contact[at]grandraidpyrenees.com
DTSTART:20220826T050000
DTEND:20220828T060000
LOCATION:Vielle-Aure\, FRA
URL:https://www.grandraidpyrenees.com
CATEGORIES:Ultramarathon
CONTACT:
CLASS:PUBLIC
PRIORITY:5
TRANSP:OPAQUE
END:VEVENT
END:VCALENDAR
