BEGIN:VCALENDAR
PRODID:-//http://statistik.d-u-v.org//PHP ultracalendar//EN
VERSION:2.0
METHOD:PUBLISH
BEGIN:VEVENT
DTSTAMP:20260419T183359
CREATED:20211201T231759
UID:1776623639.0.19636600-81636@statistik.d-u-v.org
SUMMARY:Sri Chinmoy 70 Mile Run - 50mi Split
DESCRIPTION: Sri Chinmoy 70 Mile Run - 50mi Split\n
  Tarak Kauff\n
  
DTSTART:19811101T000000
DTEND:00000000T235900
LOCATION:New York, NY\, USA
URL:http://us.srichinmoyraces.org/archives/1986/70and100
CATEGORIES:Ultramarathon
CONTACT:Tarak Kauff
CLASS:PUBLIC
PRIORITY:5
TRANSP:OPAQUE
END:VEVENT
END:VCALENDAR
