BEGIN:VCALENDAR
PRODID:-//http://statistik.d-u-v.org//PHP ultracalendar//EN
VERSION:2.0
METHOD:PUBLISH
BEGIN:VEVENT
DTSTAMP:20260419T183226
CREATED:20211204T204757
UID:1776623546.0.44703000-81594@statistik.d-u-v.org
SUMMARY:NYRRC 30 mi road race
DESCRIPTION: NYRRC 30 mi road race\n
  \n
  
DTSTART:19590308T000000
DTEND:00000000T235900
LOCATION:New York, NY\, USA
URL:
CATEGORIES:Ultramarathon
CONTACT:
CLASS:PUBLIC
PRIORITY:5
TRANSP:OPAQUE
END:VEVENT
END:VCALENDAR
