BEGIN:VCALENDAR
PRODID:-//http://statistik.d-u-v.org//PHP ultracalendar//EN
VERSION:2.0
METHOD:PUBLISH
BEGIN:VEVENT
DTSTAMP:20260419T182223
CREATED:20211125T031901
UID:1776622943.0.79449000-81530@statistik.d-u-v.org
SUMMARY:Bislett 24-Hour Indoor Challenge - 100 mi Split
DESCRIPTION: Bislett 24-Hour Indoor Challenge - 100 mi Split\n
  Olav Engen\n
  olav[at]samgla.no
DTSTART:20211120T100000
DTEND:20211121T100000
LOCATION:Oslo\, NOR
URL:http://www.romerikeultra.no/p/24681/info-in-english
CATEGORIES:Ultramarathon
CONTACT:Olav Engen
CLASS:PUBLIC
PRIORITY:5
TRANSP:OPAQUE
END:VEVENT
END:VCALENDAR
