BEGIN:VCALENDAR
PRODID:-//http://statistik.d-u-v.org//PHP ultracalendar//EN
VERSION:2.0
METHOD:PUBLISH
BEGIN:VEVENT
DTSTAMP:20260419T163057
CREATED:20211125T031901
UID:1776616257.0.88017400-81529@statistik.d-u-v.org
SUMMARY:Bislett 24-Hour Indoor Challenge - 12h Split
DESCRIPTION: Bislett 24-Hour Indoor Challenge - 12h Split\n
  Olav Engen\n
  olav[at]samgla.no
DTSTART:20211120T100000
DTEND:20211121T100000
LOCATION:Oslo\, NOR
URL:http://www.romerikeultra.no/p/24681/info-in-english
CATEGORIES:Ultramarathon
CONTACT:Olav Engen
CLASS:PUBLIC
PRIORITY:5
TRANSP:OPAQUE
END:VEVENT
END:VCALENDAR
