BEGIN:VCALENDAR
PRODID:-//http://statistik.d-u-v.org//PHP ultracalendar//EN
VERSION:2.0
METHOD:PUBLISH
BEGIN:VEVENT
DTSTAMP:20260419T190028
CREATED:20211119T131133
UID:1776625228.0.49108200-81401@statistik.d-u-v.org
SUMMARY:Trosa Backyard Ultra
DESCRIPTION: Trosa Backyard Ultra\n
  Jan-Erik Ramström\n
  janerik.ramstrom[at]gmail.com
DTSTART:20220430T100000
DTEND:00000000T235900
LOCATION:Trosa\, SWE
URL:http://www.trosaultrabackyard.se/
CATEGORIES:Ultramarathon
CONTACT:Jan-Erik Ramström
CLASS:PUBLIC
PRIORITY:5
TRANSP:OPAQUE
END:VEVENT
END:VCALENDAR
