BEGIN:VCALENDAR
PRODID:-//http://statistik.d-u-v.org//PHP ultracalendar//EN
VERSION:2.0
METHOD:PUBLISH
BEGIN:VEVENT
DTSTAMP:20260419T192607
CREATED:20211117T163530
UID:1776626767.0.81996900-81326@statistik.d-u-v.org
SUMMARY:100-km road race
DESCRIPTION: 100-km road race\n
  \n
  
DTSTART:19871004T000000
DTEND:00000000T235900
LOCATION:Chicago, IL\, USA
URL:
CATEGORIES:Ultramarathon
CONTACT:
CLASS:PUBLIC
PRIORITY:5
TRANSP:OPAQUE
END:VEVENT
END:VCALENDAR
